BEGIN:VCALENDAR
VERSION:2.0
PRODID:-//IES Boston Section - ECPv6.15.18//NONSGML v1.0//EN
CALSCALE:GREGORIAN
METHOD:PUBLISH
X-WR-CALNAME:IES Boston Section
X-ORIGINAL-URL:https://boston.ies.org
X-WR-CALDESC:Events for IES Boston Section
REFRESH-INTERVAL;VALUE=DURATION:PT1H
X-Robots-Tag:noindex
X-PUBLISHED-TTL:PT1H
BEGIN:VTIMEZONE
TZID:America/New_York
BEGIN:DAYLIGHT
TZOFFSETFROM:-0500
TZOFFSETTO:-0400
TZNAME:EDT
DTSTART:20250309T070000
END:DAYLIGHT
BEGIN:STANDARD
TZOFFSETFROM:-0400
TZOFFSETTO:-0500
TZNAME:EST
DTSTART:20251102T060000
END:STANDARD
BEGIN:DAYLIGHT
TZOFFSETFROM:-0500
TZOFFSETTO:-0400
TZNAME:EDT
DTSTART:20260308T070000
END:DAYLIGHT
BEGIN:STANDARD
TZOFFSETFROM:-0400
TZOFFSETTO:-0500
TZNAME:EST
DTSTART:20261101T060000
END:STANDARD
BEGIN:DAYLIGHT
TZOFFSETFROM:-0500
TZOFFSETTO:-0400
TZNAME:EDT
DTSTART:20270314T070000
END:DAYLIGHT
BEGIN:STANDARD
TZOFFSETFROM:-0400
TZOFFSETTO:-0500
TZNAME:EST
DTSTART:20271107T060000
END:STANDARD
END:VTIMEZONE
BEGIN:VEVENT
DTSTART;TZID=America/New_York:20260407T180000
DTEND;TZID=America/New_York:20260407T200000
DTSTAMP:20260423T041847
CREATED:20260313T182153Z
LAST-MODIFIED:20260401T213023Z
UID:10000058-1775584800-1775592000@boston.ies.org
SUMMARY:Fundamentals of Lighting Training
DESCRIPTION:This intensive 10-module program covers the breadth of material that IES works to standardize\, communicate\, and distribute. Based on feedback from previous years\, we’re offering the course as a mix of in-person and virtual sessions. \nThe Fundamentals of Light course is an excellent refresher and source of continuing education credits for architectural\, interior\, and landscape designers\, engineers\, manufacturers\, and electrical contractors. It also serves as a strong introduction to industry standards for anyone new to the field. \nCEUs: Approved CEUs are offered for each session attended\, up to a maximum of 20. There are no scheduled make-up dates\, though exceptions will be considered in the event of severe weather. \nSchedule: The course runs for 5 weeks (with one week off for LEDucation in New York). In-person sessions are held Tuesdays from 6–8pm and include dinner; virtual sessions follow on Wednesdays. \n  \nFundamentals of Lighting – Session Schedule\nWeek 1 – Apr. 7-8\n\nTue 4/7 (In-Person) — Module 8: Lighting for Interior Environments — Steven Rosen\nWed 4/8 (Virtual) — Module 1: Introduction to Light and Lighting — Coffield King\n\nWeek of Apr. 14 – No class (LEDucation)\nWeek 2 – Apr. 21-22\n\nTue 4/21 (In-Person) — Module 5: Lighting Controls — Webster Marsh\nWed 4/22 (Virtual) — Module 4: Daylighting — Sara Schonour\n\nWeek 3 – Apr. 28-29\n\nTue 4/28 (In-Person) — Module 6: Metrics\, Photometry\, Calculations\, and Rendering — Clyde Robinson\nWed 4/29 (Virtual) — Module 2: Electric Light Sources — Ben Koyle\n\nWeek 4 – May 5-6\n\nTue 5/5 (In-Person) — Module 7: Codes\, Standards\, and Practice — Gretchen Battle\nWed 5/6 (Virtual) — Module 3: Luminaires — Instructor TBD\n\nWeek 5 – May 12-13\n\nTue 5/12  (In-Person) — Module 9: Lighting for Exterior Environments — Clyde Robinson\nWed 5/13  (Virtual) — Module 10: Review — Coffield King\n\n  \n  \n\n			\n				\n			\n			\n				\n			\n			\n				\n			\n		\n\nPricing Note: Ticket price does not include student materials. The recommended digital handbook can be purchased at store.ies.org\, but is not required to complete the series.
URL:https://boston.ies.org/event/fundamentals-of-lighting-training/
LOCATION:HLB Boston\, 200 State St. Suite 325\, Boston\, 02109\, United States
CATEGORIES:Section Events,Webinar
ATTACH;FMTTYPE=image/png:https://boston.ies.org/wp-content/uploads/Fundamentals-of-Lighting-logo-No-Tanks.png
ORGANIZER;CN="Coffield King":MAILTO:cking@cannondesign.com
END:VEVENT
BEGIN:VEVENT
DTSTART;TZID=America/New_York:20260528T180000
DTEND;TZID=America/New_York:20260528T200000
DTSTAMP:20260423T041847
CREATED:20260421T143847Z
LAST-MODIFIED:20260421T144952Z
UID:10000059-1779991200-1779998400@boston.ies.org
SUMMARY:EP Summer Program 2026 - Kick-Off Paint Night!
DESCRIPTION:Join us for a fun and creative evening as we kick off the IES Boston Emerging Professionals summer program! This gathering is all about making connections\, meeting fellow EPs\, and building community across the lighting industry. \nWhether you’re new to lighting or more established\, all are welcome. Come mingle\, paint\, and get to know one another! \nHosted by Reflex Lighting\, this paint night will include guided painting\, great conversation\, and plenty of opportunities to connect. Food will be provided. \n 
URL:https://boston.ies.org/event/ies-ep-program-kick-off-paint-night/
LOCATION:Reflex Lighting Boston\, 280 Summer Street\, Boston\, 02210\, United States
CATEGORIES:Emerging Professionals
ATTACH;FMTTYPE=image/png:https://boston.ies.org/wp-content/uploads/Untitled-Nadia-Rua.png
ORGANIZER;CN="Nadia Rua":MAILTO:nadia@availablelight.com
END:VEVENT
BEGIN:VEVENT
DTSTART;VALUE=DATE:20260605
DTEND;VALUE=DATE:20260608
DTSTAMP:20260423T041847
CREATED:20260421T144045Z
LAST-MODIFIED:20260421T144850Z
UID:10000060-1780617600-1780876799@boston.ies.org
SUMMARY:EP Retreat - June 2026: New Lebanon\, NY
DESCRIPTION:This year\, Night Lights in New Lebanon is are offering an exciting opportunity (June 5-7th) for Emerging Professionals to become engaged and educated on the lighting design\, power\, and controls process of building this incredible event. \nParticipating EPs will team with seasoned lighting professionals for: \n\ndesign discussions on exterior lighting and use of color\nhands-on exposure to wiring and controls\nlearning the process of event organization\ncreating YOUR on mini-Night Lights during the evening\nand to earn CEUs!\n\nSchedule \nArrive Friday evening and join us for a networking dinner! \nSaturday\, Part 1: Wiring and controls with Doug Hildeman (Pixelumen Lab) \nSaturday\, Part 2: Design and Planning with the Night Lights Executive Committee: \n\nJess Krometis (Fux Studio)\, Jennifer Loukas (Lighting Playground)\, Kelly Roberts (Primary Arc Design)\, and Sara Schonour (Luxsi)\n\nSaturday\, Part 3: Mini-Night Lights Install with bonfire and s’mores \nOn Sunday\, visit Mass MoCA to experience our local James Turrell exhibit and head home at your leisure. \nWhat you need to bring \nYour imagination and a willingness to get your hands dirty. \nWho is eligible?  \nAll attendees must be 21+\, current students\, or individual with less than 5 years of experience in the lighting industry. \nApply today! Spots are limited! \nLearn more! \n  \nNight Lights Background: \nHeld on a quiet rural property in New Lebanon\, NY\, on the Saturday of Labor Day Weekend\, Night Lights is a free lighting festival that transforms nature into an open-air gallery through the creative brilliance of lighting designers from across the country. \nFrom dusk onward\, visitors explore stunning light art installations crafted by over 30 designers representing award-winning firms from Boston\, Chicago\, DC\, New York\, Portland\, and beyond.
URL:https://boston.ies.org/event/night-lights-in-new-lebanon-ep-retreat/
LOCATION:Night Lights of New Lebanon\, 555 US 20\, New Lebanon\, NY\, 12125\, United States
CATEGORIES:Emerging Professionals
ATTACH;FMTTYPE=image/png:https://boston.ies.org/wp-content/uploads/EP-Page-1.png
END:VEVENT
END:VCALENDAR